BEGIN:VCALENDAR
PRODID:-//Tarawera Publishing//NONSGML kigkonsult.se iCalcreator 2.8//
BEGIN:VEVENT
UID:event-5105
DTSTAMP:20021125T000000Z
DESCRIPTION:Date: Tuesday 11 February 2025Event Time: 08:30am to 11:30am  E
 vent Location: Zealong Tea Estate - 495 Gordonton Rd\, Gordonton\, Hamilto
 n.\n Contact information: registrations@nib.co.nz nib is hitting the road 
 with its Ultimate Life & Living insurance and nib Balance launch events ac
 ross New Zealand. nib will be unveiling comprehensive new nib products and
  insurance solutions to help your clients and their loved ones protect wha
 t matters most.  Enjoy an exclusive keynote speech from renowned psycholog
 ist\, author and media personality\, Nigel Latta.Further information and a
  registration from can be found 
DTSTART:20021125T000000Z
DTEND:20021125T000000Z
LOCATION:Zealong Tea Estate - 495 Gordonton Rd\, Gordonton\, Hamilton.\n\, 
 Waikato
SUMMARY:A Healthier Approach Launch Events
END:VEVENT
END:VCALENDAR
