BEGIN:VCALENDAR
PRODID:-//Tarawera Publishing//NONSGML kigkonsult.se iCalcreator 2.8//
BEGIN:VEVENT
UID:event-5210
DTSTAMP:20260519T000000Z
DESCRIPTION:Conference\n
DTSTART:20260519T000000Z
DTEND:20260519T000000Z
LOCATION:Te Pae Convention Centre\, Canterbury
SUMMARY:Kernel Conference - The Next Chapter of Wealth: Tech Trends and the
  Future of Advice
END:VEVENT
END:VCALENDAR
