BEGIN:VCALENDAR
PRODID:-//Tarawera Publishing//NONSGML kigkonsult.se iCalcreator 2.8//
BEGIN:VEVENT
UID:event-5174
DTSTAMP:20260917T000000Z
DESCRIPTION:Meet the Managers hosted by Heathcote Investment Partners is br
 inging the Fund Managers to you. Update your portfolio knowledge and earn 
 CPD&#39\;s\n
DTSTART:20260917T000000Z
DTEND:20260917T000000Z
LOCATION:Maritime Room \nViaduct Harbour\nAuckland CBD\, Auckland
SUMMARY:Meet the Managers Roadshow 
END:VEVENT
END:VCALENDAR
