BEGIN:VCALENDAR
PRODID:-//Tarawera Publishing//NONSGML kigkonsult.se iCalcreator 2.8//
BEGIN:VEVENT
UID:event-4351
DTSTAMP:20011210T000000Z
DESCRIPTION:Workplace Savings NZ &amp\; Women in Super invite you to join u
 s for our final industry breakfast event for 2010.\nOur guest speaker for 
 this event is Simon Botherway\, Chairman of the Financial Markets Authorit
 y (FMA) Establishment Board.
DTSTART:20011210T000000Z
DTEND:20011210T000000Z
LOCATION:The Wellington Club\, 88 The Terrace\, Wellington\, Wellington
SUMMARY:Workplace Savings NZ Industry Breakfast - Wellington
END:VEVENT
END:VCALENDAR
